BEGIN:VCALENDAR
VERSION:2.0
PRODID:-//Main Tap Tavern - ECPv6.9.0//NONSGML v1.0//EN
CALSCALE:GREGORIAN
METHOD:PUBLISH
X-ORIGINAL-URL:http://maintaptavern.com
X-WR-CALDESC:Events for Main Tap Tavern
REFRESH-INTERVAL;VALUE=DURATION:PT1H
X-Robots-Tag:noindex
X-PUBLISHED-TTL:PT1H
BEGIN:VTIMEZONE
TZID:America/Los_Angeles
BEGIN:DAYLIGHT
TZOFFSETFROM:-0800
TZOFFSETTO:-0700
TZNAME:PDT
DTSTART:20180311T100000
END:DAYLIGHT
BEGIN:STANDARD
TZOFFSETFROM:-0700
TZOFFSETTO:-0800
TZNAME:PST
DTSTART:20181104T090000
END:STANDARD
END:VTIMEZONE
BEGIN:VEVENT
DTSTART;VALUE=DATE:20180102
DTEND;VALUE=DATE:20180103
DTSTAMP:20260423T100727
CREATED:20171202T213910Z
LAST-MODIFIED:20180102T233017Z
UID:8653-1514851200-1514937599@maintaptavern.com
SUMMARY:All Day Taco Tuesday
DESCRIPTION:All Day Taco Tuesday!! \n2 for $5
URL:http://maintaptavern.com/event/day-taco-tuesday-4/
LOCATION:Main Tap Tavern\, 518 E Main St\, El Cajon\, CA 92020\, El Cajon\, CA\, 92020\, United States
CATEGORIES:Events
ATTACH;FMTTYPE=image/jpeg:http://maintaptavern.com/wp-content/uploads/2017/12/TacoTuesday.jpg
END:VEVENT
BEGIN:VEVENT
DTSTART;VALUE=DATE:20180103
DTEND;VALUE=DATE:20180104
DTSTAMP:20260423T100727
CREATED:20160301T090727Z
LAST-MODIFIED:20180102T232949Z
UID:7604-1514937600-1515023999@maintaptavern.com
SUMMARY:Wednesday Trivioke & $6 Ruebens
DESCRIPTION:Wednesday Trivioke & $6 Ruebens \nMain Tap is merging our karaoke and trivia on Wednesday nights for a little #TRIVIOKE action. Trivia from 6-8pm with your favorite host Sarah\, followed by karaoke with KJ Quenga from 8pm to close. $6 Ruebens and two awesome events along with the always epic Cask Night. Don’t miss out!
URL:http://maintaptavern.com/event/wednesday-trivioke-27/
LOCATION:Main Tap Tavern\, 518 E Main St\, El Cajon\, CA 92020\, El Cajon\, CA\, 92020\, United States
CATEGORIES:Events
ATTACH;FMTTYPE=image/jpeg:http://maintaptavern.com/wp-content/uploads/2015/05/trivia2016.jpg
END:VEVENT
BEGIN:VEVENT
DTSTART;TZID=America/Los_Angeles:20180104T000000
DTEND;TZID=America/Los_Angeles:20180104T235900
DTSTAMP:20260423T100727
CREATED:20171202T215058Z
LAST-MODIFIED:20180102T232815Z
UID:8670-1515024000-1515110340@maintaptavern.com
SUMMARY:Thursday Night Football & 75 Cent Wings
DESCRIPTION:Your spot for all your Thursday Night NFL action is Main Tap Tavern. \nThursday Nights are Football & 75 Cent Wing Night! (min order of 6 wings) \nGrab your friends and come down for a kick ass night of football at the Tap!! \n\nThursday Night Football & 75 Cent Wings
URL:http://maintaptavern.com/event/thursday-night-football-75-cent-wings-3/
LOCATION:Main Tap Tavern\, 518 E Main St\, El Cajon\, CA 92020\, El Cajon\, CA\, 92020\, United States
ATTACH;FMTTYPE=image/jpeg:http://maintaptavern.com/wp-content/uploads/2017/11/NFL-MTT-EveryGame.jpg
END:VEVENT
BEGIN:VEVENT
DTSTART;TZID=America/Los_Angeles:20180104T170000
DTEND;TZID=America/Los_Angeles:20180104T193000
DTSTAMP:20260423T100727
CREATED:20180103T050940Z
LAST-MODIFIED:20180103T051421Z
UID:8762-1515085200-1515094200@maintaptavern.com
SUMMARY:Las Vegas Golden Knights at St. Louis Blues 5 pm
DESCRIPTION:Las Vegas Golden Knights at St. Louis Blues 5 pm \nThursday Nights are NHL Rivalry Nights at Main Tap Tavern! \nCheck the Calendar to see when your favorite teams are playing. Come on down\, bring your friends and watch the game while you enjoy a delicious craft beer from one of our 24 Revolving Taps.
URL:http://maintaptavern.com/event/las-vegas-golden-knights-st-louis-blues-5-pm/
LOCATION:Main Tap Tavern\, 518 E Main St\, El Cajon\, CA 92020\, El Cajon\, CA\, 92020\, United States
CATEGORIES:Events
ATTACH;FMTTYPE=image/jpeg:http://maintaptavern.com/wp-content/uploads/2018/01/NHL-Rivalry.jpg
END:VEVENT
BEGIN:VEVENT
DTSTART;VALUE=DATE:20180106
DTEND;VALUE=DATE:20180107
DTSTAMP:20260423T100727
CREATED:20171229T234732Z
LAST-MODIFIED:20180102T232505Z
UID:8683-1515196800-1515283199@maintaptavern.com
SUMMARY:Rage Again & Brixton 76'
DESCRIPTION:Rage Again (Rage Against the Machine Tribute) & Brixton 76′ (Clash Tribute) \n9pm – 21+ – No Cover  \nIts on East County!! Let’s kick 2018 off right w a little bad ass intimate RAGE and CLASH Tribute night in El Cajon\, CA!!\n..Festivities begin at 9pm with Brixton 76′ and ending with a high energy set with Rage Again at 10:30pm!!
URL:http://maintaptavern.com/event/time-lions/
LOCATION:Main Tap Tavern\, 518 E Main St\, El Cajon\, CA 92020\, El Cajon\, CA\, 92020\, United States
CATEGORIES:Events
ATTACH;FMTTYPE=image/jpeg:http://maintaptavern.com/wp-content/uploads/2017/12/RageClash.jpg
END:VEVENT
BEGIN:VEVENT
DTSTART;VALUE=DATE:20180107
DTEND;VALUE=DATE:20180108
DTSTAMP:20260423T100727
CREATED:20171202T210732Z
LAST-MODIFIED:20180102T233147Z
UID:8630-1515283200-1515369599@maintaptavern.com
SUMMARY:Sunday Football & Bottomless Mimosas!
DESCRIPTION:Your spot for all your NFL action on Sundays in at Main Tap. With our NFL Sunday Ticket you can watch any game you want while you grabbing a tasty meal off of our menu. \nAnd how about some Bottomless Mimosas to get your Football Sunday kicked off the right way? \nGrab your friends and come down for a kick ass day of football at the Tap!! \n\nSunday Football & Bottomless Mimosas
URL:http://maintaptavern.com/event/sunday-football-bottomless-mimosas-3/
LOCATION:Main Tap Tavern\, 518 E Main St\, El Cajon\, CA 92020\, El Cajon\, CA\, 92020\, United States
CATEGORIES:Events
END:VEVENT
BEGIN:VEVENT
DTSTART;VALUE=DATE:20180108
DTEND;VALUE=DATE:20180109
DTSTAMP:20260423T100727
CREATED:20180103T030538Z
LAST-MODIFIED:20180103T030538Z
UID:8738-1515369600-1515455999@maintaptavern.com
SUMMARY:National Championship Game
DESCRIPTION:National Championship Game Featuring Fall Brewing! \nCome on down with your friends and Watch the 2018 National Championship Game on one of our many flat screen TVs\, view from anywhere in the bar while enjoying a delicious craft brew from Fall Brewing!
URL:http://maintaptavern.com/event/national-championship-game/
LOCATION:Main Tap Tavern\, 518 E Main St\, El Cajon\, CA 92020\, El Cajon\, CA\, 92020\, United States
CATEGORIES:Events
ATTACH;FMTTYPE=image/jpeg:http://maintaptavern.com/wp-content/uploads/2018/01/BCS-NationalChampionship.jpg
END:VEVENT
BEGIN:VEVENT
DTSTART;VALUE=DATE:20180110
DTEND;VALUE=DATE:20180111
DTSTAMP:20260423T100727
CREATED:20171230T025133Z
LAST-MODIFIED:20171230T025133Z
UID:8697-1515542400-1515628799@maintaptavern.com
SUMMARY:Islander w/ Starbursts
DESCRIPTION:Named after Coronado Island\, our original India Pale Ale is a liquid expression of hometown pride. Centennial\, Chinook and Columbus hops combine to provide an explosive burst of piney bitterness and luscious notes of apricot\, grapefruit and mango that are sure to evoke imagery of swaying palms and sun-kissed shores.
URL:http://maintaptavern.com/event/islander-w-starbursts/
LOCATION:Main Tap Tavern\, 518 E Main St\, El Cajon\, CA 92020\, El Cajon\, CA\, 92020\, United States
CATEGORIES:Events
ATTACH;FMTTYPE=image/jpeg:http://maintaptavern.com/wp-content/uploads/2015/02/coronadostarbursts.jpg
END:VEVENT
BEGIN:VEVENT
DTSTART;VALUE=DATE:20180110
DTEND;VALUE=DATE:20180111
DTSTAMP:20260423T100727
CREATED:20160301T090849Z
LAST-MODIFIED:20180102T233329Z
UID:7606-1515542400-1515628799@maintaptavern.com
SUMMARY:Wednesday Trivioke & $6 Ruebens
DESCRIPTION:Wednesday Trivioke & $6 Ruebens \nMain Tap is merging our karaoke and trivia on Wednesday nights for a little #TRIVIOKE action. Trivia from 6-8pm with your favorite host Sarah\, followed by karaoke with KJ Quenga from 8pm to close. $6 Ruebens and two awesome events along with the always epic Cask Night. Don’t miss out!
URL:http://maintaptavern.com/event/wednesday-trivioke-29/
LOCATION:Main Tap Tavern\, 518 E Main St\, El Cajon\, CA 92020\, El Cajon\, CA\, 92020\, United States
CATEGORIES:Events
ATTACH;FMTTYPE=image/jpeg:http://maintaptavern.com/wp-content/uploads/2015/05/trivia2016.jpg
END:VEVENT
BEGIN:VEVENT
DTSTART;TZID=America/Los_Angeles:20180111T160000
DTEND;TZID=America/Los_Angeles:20180111T183000
DTSTAMP:20260423T100727
CREATED:20180103T051121Z
LAST-MODIFIED:20180103T052003Z
UID:8764-1515686400-1515695400@maintaptavern.com
SUMMARY:Carolina Hurricanes at Washington Capital 4pm
DESCRIPTION:Carolina Hurricanes at Washington Capital 4pm \nThursday Nights are NHL Rivalry Nights at Main Tap Tavern! \nCheck the Calendar to see when your favorite teams are playing. Come on down\, bring your friends and watch the game while you enjoy a delicious craft beer from one of our 24 Revolving Taps.
URL:http://maintaptavern.com/event/carolina-hurricanes-jan-18th-washington-capital-4pm/
LOCATION:Main Tap Tavern\, 518 E Main St\, El Cajon\, CA 92020\, El Cajon\, CA\, 92020\, United States
CATEGORIES:Events
ATTACH;FMTTYPE=image/jpeg:http://maintaptavern.com/wp-content/uploads/2018/01/NHL-Rivalry.jpg
END:VEVENT
BEGIN:VEVENT
DTSTART;VALUE=DATE:20180113
DTEND;VALUE=DATE:20180114
DTSTAMP:20260423T100727
CREATED:20180103T031948Z
LAST-MODIFIED:20180103T031948Z
UID:8743-1515801600-1515887999@maintaptavern.com
SUMMARY:Miss Demeanor
DESCRIPTION:Miss demeanor  \n9pm. No Cover! 21+ \nSan Diego’s premier band for dancing and entertainment Lead singer Torria Larsen\, a consummate professional sang on Broadway. Dave “Gypsy” Jett is an incredible front man and lead singer on his own. Joe Gridley has his guitar roots firmly embedded in the New Orleans southern rock scene and Martin Morford is one of Socals most energetic drummer \n 
URL:http://maintaptavern.com/event/demeanor/
LOCATION:Main Tap Tavern\, 518 E Main St\, El Cajon\, CA 92020\, El Cajon\, CA\, 92020\, United States
CATEGORIES:Events
ATTACH;FMTTYPE=image/jpeg:http://maintaptavern.com/wp-content/uploads/2018/01/MissDemeanor.jpg
END:VEVENT
BEGIN:VEVENT
DTSTART;VALUE=DATE:20180114
DTEND;VALUE=DATE:20180115
DTSTAMP:20260423T100727
CREATED:20171202T210649Z
LAST-MODIFIED:20180102T233530Z
UID:8628-1515888000-1515974399@maintaptavern.com
SUMMARY:Sunday Football & Bottomless Mimosas!
DESCRIPTION:Your spot for all your NFL action on Sundays in at Main Tap. With our NFL Sunday Ticket you can watch any game you want while you grabbing a tasty meal off of our menu. \nAnd how about some Bottomless Mimosas to get your Football Sunday kicked off the right way? \nGrab your friends and come down for a kick ass day of football at the Tap!! \n\nSunday Football & Bottomless Mimosas
URL:http://maintaptavern.com/event/sunday-football-bottomless-mimosas-2/
LOCATION:Main Tap Tavern\, 518 E Main St\, El Cajon\, CA 92020\, El Cajon\, CA\, 92020\, United States
CATEGORIES:Events
END:VEVENT
BEGIN:VEVENT
DTSTART;TZID=America/Los_Angeles:20180118T160000
DTEND;TZID=America/Los_Angeles:20180118T183000
DTSTAMP:20260423T100727
CREATED:20180103T052409Z
LAST-MODIFIED:20180103T052409Z
UID:8767-1516291200-1516300200@maintaptavern.com
SUMMARY:Jan. 18th - Boston Bruins at NY Islanders 4pm
DESCRIPTION:Jan. 18th – Boston Bruins at NY Islanders 4pm \nThursday Nights are NHL Rivalry Nights at Main Tap Tavern! \nCheck the Calendar to see when your favorite teams are playing. Come on down\, bring your friends and watch the game while you enjoy a delicious craft beer from one of our 24 Revolving Taps.
URL:http://maintaptavern.com/event/jan-18th-boston-bruins-ny-islanders-4pm/
LOCATION:Main Tap Tavern\, 518 E Main St\, El Cajon\, CA 92020\, El Cajon\, CA\, 92020\, United States
CATEGORIES:Events
ATTACH;FMTTYPE=image/jpeg:http://maintaptavern.com/wp-content/uploads/2018/01/NHL-Rivalry.jpg
END:VEVENT
BEGIN:VEVENT
DTSTART;VALUE=DATE:20180120
DTEND;VALUE=DATE:20180121
DTSTAMP:20260423T100727
CREATED:20180103T041440Z
LAST-MODIFIED:20180103T041440Z
UID:8755-1516406400-1516492799@maintaptavern.com
SUMMARY:UFC 220 + Burnin Up
DESCRIPTION:UFC 220 | Miocic vs. Ngannou \nYour spot for watching UFC while drinking great craft beer is at the Main Tap Tavern! UFC 217\, Saturday Nov 4th at 7pm! $5 Cover. Preliminaries will start at 6pm\, so be here early to find a seat. Call ahead to reserve tables of 4 or more while they last!! \nLive Music with Burnin Up @ 9pm \nComing Together & spreading music like fiyah. WE BURNIN UP! Reggae Rock for your listening pleasure.
URL:http://maintaptavern.com/event/ufc-220-burnin/
LOCATION:Main Tap Tavern\, 518 E Main St\, El Cajon\, CA 92020\, El Cajon\, CA\, 92020\, United States
CATEGORIES:Events
ATTACH;FMTTYPE=image/jpeg:http://maintaptavern.com/wp-content/uploads/2018/01/ufc220.jpg
END:VEVENT
BEGIN:VEVENT
DTSTART;VALUE=DATE:20180124
DTEND;VALUE=DATE:20180125
DTSTAMP:20260423T100727
CREATED:20180103T034155Z
LAST-MODIFIED:20180103T034155Z
UID:8750-1516752000-1516838399@maintaptavern.com
SUMMARY:3 Punk Ales Cask
DESCRIPTION:3 Punk Ales Cask \nThr3e Punk Ales brewing company\, Regarded for crafting QUALITY Ales. For those who seek better beer… San Diego Craftsmanship.
URL:http://maintaptavern.com/event/3-punk-ales-cask/
LOCATION:Main Tap Tavern\, 518 E Main St\, El Cajon\, CA 92020\, El Cajon\, CA\, 92020\, United States
CATEGORIES:Events
ATTACH;FMTTYPE=image/jpeg:http://maintaptavern.com/wp-content/uploads/2018/01/3PunkAles.jpg
END:VEVENT
BEGIN:VEVENT
DTSTART;TZID=America/Los_Angeles:20180125T160000
DTEND;TZID=America/Los_Angeles:20180125T183000
DTSTAMP:20260423T100727
CREATED:20180103T052548Z
LAST-MODIFIED:20180103T052548Z
UID:8769-1516896000-1516905000@maintaptavern.com
SUMMARY:Minnesota Wild at Pittsburgh Penguins 4pm
DESCRIPTION:Jan. 25th – Minnesota Wild at Pittsburgh Penguins 4pm \nThursday Nights are NHL Rivalry Nights at Main Tap Tavern! \nCheck the Calendar to see when your favorite teams are playing. Come on down\, bring your friends and watch the game while you enjoy a delicious craft beer from one of our 24 Revolving Taps.
URL:http://maintaptavern.com/event/minnesota-wild-pittsburgh-penguins-4pm/
LOCATION:Main Tap Tavern\, 518 E Main St\, El Cajon\, CA 92020\, El Cajon\, CA\, 92020\, United States
CATEGORIES:Events
ATTACH;FMTTYPE=image/jpeg:http://maintaptavern.com/wp-content/uploads/2018/01/NHL-Rivalry.jpg
END:VEVENT
BEGIN:VEVENT
DTSTART;VALUE=DATE:20180126
DTEND;VALUE=DATE:20180127
DTSTAMP:20260423T100727
CREATED:20180118T224438Z
LAST-MODIFIED:20180118T224438Z
UID:8813-1516924800-1517011199@maintaptavern.com
SUMMARY:Laughs + Crafts
DESCRIPTION:Friday January 26th @ 8pm – Laughs + Crafts (Featuring: Sean McBride) No Cover Charge \nAlong With: Wes Sample\, Carlos Mendez\, Ada Saldivar & Suzanne West \nCome down to Main Tap Tavern and enjoy some laughs while you sip on a delicious craft beer from one of our 24 Rotating Taps.
URL:http://maintaptavern.com/event/laughs-crafts/
LOCATION:Main Tap Tavern\, 518 E Main St\, El Cajon\, CA 92020\, El Cajon\, CA\, 92020\, United States
CATEGORIES:Events
ATTACH;FMTTYPE=image/jpeg:http://maintaptavern.com/wp-content/uploads/2018/01/Laughs-Crafts.jpg
END:VEVENT
END:VCALENDAR