BEGIN:VCALENDAR
VERSION:2.0
PRODID:-//Main Tap Tavern - ECPv6.9.0//NONSGML v1.0//EN
CALSCALE:GREGORIAN
METHOD:PUBLISH
X-WR-CALNAME:Main Tap Tavern
X-ORIGINAL-URL:http://maintaptavern.com
X-WR-CALDESC:Events for Main Tap Tavern
REFRESH-INTERVAL;VALUE=DURATION:PT1H
X-Robots-Tag:noindex
X-PUBLISHED-TTL:PT1H
BEGIN:VTIMEZONE
TZID:America/Los_Angeles
BEGIN:DAYLIGHT
TZOFFSETFROM:-0800
TZOFFSETTO:-0700
TZNAME:PDT
DTSTART:20170312T100000
END:DAYLIGHT
BEGIN:STANDARD
TZOFFSETFROM:-0700
TZOFFSETTO:-0800
TZNAME:PST
DTSTART:20171105T090000
END:STANDARD
END:VTIMEZONE
BEGIN:VEVENT
DTSTART;VALUE=DATE:20170901
DTEND;VALUE=DATE:20170902
DTSTAMP:20260423T170805
CREATED:20170605T214852Z
LAST-MODIFIED:20170912T184728Z
UID:8277-1504224000-1504310399@maintaptavern.com
SUMMARY:Karaoke Party Fridays
DESCRIPTION:Friday Night Karaoke Party 9pm. \nJoin Main Tap from 9pm to Last Call\, as we get your weekend started off right! Sing your heart out with your choice of Rock N Roll\, Country\, Oldies\, Hip Hop. Whatever your genre\, we have THOUSANDS of songs to choose from!
URL:http://maintaptavern.com/event/karaoke-party-fridays-16/
LOCATION:Main Tap Tavern\, 518 E Main St\, El Cajon\, CA 92020\, El Cajon\, CA\, 92020\, United States
CATEGORIES:Events
ATTACH;FMTTYPE=image/jpeg:http://maintaptavern.com/wp-content/uploads/2015/09/karaoke2016.jpg
END:VEVENT
BEGIN:VEVENT
DTSTART;VALUE=DATE:20170909
DTEND;VALUE=DATE:20170910
DTSTAMP:20260423T170805
CREATED:20170907T020228Z
LAST-MODIFIED:20170907T020251Z
UID:8376-1504915200-1505001599@maintaptavern.com
SUMMARY:UFC 215
DESCRIPTION:UFC 215 Johnson vs. Borg / Nunes vs. Shevchenko 2 & The Josie Day Band. \nYour spot for watching UFC while drinking great craft beer is at the Main Tap Tavern! UFC 215\, Saturday Sep9th at 7pm! $5 Cover. Stay after the fight for the Josie Day band as they set the tone for the rest of the night. Preliminaries will start at 6pm\, so be here early to find a seat. Call ahead to reserve tables of 4 or more while they last!!
URL:http://maintaptavern.com/event/ufc-215/
LOCATION:Main Tap Tavern\, 518 E Main St\, El Cajon\, CA 92020\, El Cajon\, CA\, 92020\, United States
CATEGORIES:Events
ATTACH;FMTTYPE=image/jpeg:http://maintaptavern.com/wp-content/uploads/2017/09/ufc215.jpg
END:VEVENT
BEGIN:VEVENT
DTSTART;VALUE=DATE:20170916
DTEND;VALUE=DATE:20170917
DTSTAMP:20260423T170805
CREATED:20170908T230958Z
LAST-MODIFIED:20170912T184621Z
UID:8382-1505520000-1505606399@maintaptavern.com
SUMMARY:Canelo vs. Golovkin
DESCRIPTION:Canelo Alvarez vs. Gennady Golovkin | $20 Cover \nTable seating available for $25 (Minimum of 4 per table)\nYour spot for watching one of the biggest fights of all time while drinking delicious craft beer is at the Main Tap Tavern! \nGet here early and find a seat. Call ahead to reserve tables of 4 or more while they last!! (619) 749-6333 \nStick around after the Fight for Some Live Hip Hop with: Living Lengend’s “Scarub” & “POT1“
URL:http://maintaptavern.com/event/canelo-vs-golovkin/
LOCATION:Main Tap Tavern\, 518 E Main St\, El Cajon\, CA 92020\, El Cajon\, CA\, 92020\, United States
CATEGORIES:Events
ATTACH;FMTTYPE=image/jpeg:http://maintaptavern.com/wp-content/uploads/2017/09/AlvarezVsGolovkin-2017.jpg
END:VEVENT
END:VCALENDAR