BEGIN:VCALENDAR
VERSION:2.0
PRODID:-//Main Tap Tavern - ECPv6.9.0//NONSGML v1.0//EN
CALSCALE:GREGORIAN
METHOD:PUBLISH
X-WR-CALNAME:Main Tap Tavern
X-ORIGINAL-URL:http://maintaptavern.com
X-WR-CALDESC:Events for Main Tap Tavern
REFRESH-INTERVAL;VALUE=DURATION:PT1H
X-Robots-Tag:noindex
X-PUBLISHED-TTL:PT1H
BEGIN:VTIMEZONE
TZID:America/Los_Angeles
BEGIN:DAYLIGHT
TZOFFSETFROM:-0800
TZOFFSETTO:-0700
TZNAME:PDT
DTSTART:20170312T100000
END:DAYLIGHT
BEGIN:STANDARD
TZOFFSETFROM:-0700
TZOFFSETTO:-0800
TZNAME:PST
DTSTART:20171105T090000
END:STANDARD
END:VTIMEZONE
BEGIN:VEVENT
DTSTART;VALUE=DATE:20170603
DTEND;VALUE=DATE:20170604
DTSTAMP:20260424T023651
CREATED:20170605T214954Z
LAST-MODIFIED:20170605T214954Z
UID:8279-1496448000-1496534399@maintaptavern.com
SUMMARY:UFC 212
DESCRIPTION:UFC 212 Aldo vs. Holloway & Dirty Decibels Band. \nYour spot for watching UFC while drinking great craft beer is at the Main Tap Tavern! UFC 212\, Saturday June 3rd at 7pm! $5 Cover. Stay after the fight for Dirty Decibels as they set the tone for the rest of the night. Preliminaries will start at 6pm\, so be here early to find a seat. Call ahead to reserve tables of 4 or more while they last!!
URL:http://maintaptavern.com/event/ufc-212/
LOCATION:Main Tap Tavern\, 518 E Main St\, El Cajon\, CA 92020\, El Cajon\, CA\, 92020\, United States
CATEGORIES:Events
ATTACH;FMTTYPE=image/jpeg:http://maintaptavern.com/wp-content/uploads/2017/04/ufc212.jpg
END:VEVENT
BEGIN:VEVENT
DTSTART;VALUE=DATE:20170607
DTEND;VALUE=DATE:20170608
DTSTAMP:20260424T023651
CREATED:20170605T215059Z
LAST-MODIFIED:20170605T215059Z
UID:8281-1496793600-1496879999@maintaptavern.com
SUMMARY:San Diego Brewing Co.
DESCRIPTION:San Diego Brewing Company Cask – 3pm.
URL:http://maintaptavern.com/event/san-diego-brewing/
LOCATION:Main Tap Tavern\, 518 E Main St\, El Cajon\, CA 92020\, El Cajon\, CA\, 92020\, United States
CATEGORIES:Events
ATTACH;FMTTYPE=image/jpeg:http://maintaptavern.com/wp-content/uploads/2017/06/SanDiegoBrewingCo.jpg
END:VEVENT
BEGIN:VEVENT
DTSTART;VALUE=DATE:20170610
DTEND;VALUE=DATE:20170611
DTSTAMP:20260424T023651
CREATED:20170605T215206Z
LAST-MODIFIED:20170605T215206Z
UID:8283-1497052800-1497139199@maintaptavern.com
SUMMARY:Mud Wolf
DESCRIPTION:Mud Wolf Band 9pm. \nThe Little Kings own brand of Chicago\, Texas\, and West Coast Blues and Swing is guaranteed to get audiences groovin’ and dancing!
URL:http://maintaptavern.com/event/mud-wolf-2/
LOCATION:Main Tap Tavern\, 518 E Main St\, El Cajon\, CA 92020\, El Cajon\, CA\, 92020\, United States
CATEGORIES:Events
ATTACH;FMTTYPE=image/jpeg:http://maintaptavern.com/wp-content/uploads/2015/05/mud-wolf.jpg
END:VEVENT
BEGIN:VEVENT
DTSTART;VALUE=DATE:20170617
DTEND;VALUE=DATE:20170618
DTSTAMP:20260424T023651
CREATED:20170605T215323Z
LAST-MODIFIED:20170605T215323Z
UID:8285-1497657600-1497743999@maintaptavern.com
SUMMARY:Shane Hall
DESCRIPTION:Shane Hall 9pm. \nA versatile multi faceted LIVE experience in Rock Blues and acoustic stylings\, with various arrangements of instrumentation and personnel.
URL:http://maintaptavern.com/event/shane-hall-2/
LOCATION:Main Tap Tavern\, 518 E Main St\, El Cajon\, CA 92020\, El Cajon\, CA\, 92020\, United States
CATEGORIES:Events
ATTACH;FMTTYPE=image/jpeg:http://maintaptavern.com/wp-content/uploads/2017/02/ShaneHall.jpg
END:VEVENT
BEGIN:VEVENT
DTSTART;VALUE=DATE:20170624
DTEND;VALUE=DATE:20170625
DTSTAMP:20260424T023651
CREATED:20170605T215420Z
LAST-MODIFIED:20170605T215420Z
UID:8287-1498262400-1498348799@maintaptavern.com
SUMMARY:Andrew Parker Davis
DESCRIPTION:Andrew Parker Davis 9pm. No Cover! \nA native San Diegan who lives in La Mesa. He currently plays covers & originals in a variety of genres.
URL:http://maintaptavern.com/event/andrew-parker-davis/
LOCATION:Main Tap Tavern\, 518 E Main St\, El Cajon\, CA 92020\, El Cajon\, CA\, 92020\, United States
CATEGORIES:Events
ATTACH;FMTTYPE=image/jpeg:http://maintaptavern.com/wp-content/uploads/2017/06/AndrewParkerDavis.jpg
END:VEVENT
END:VCALENDAR