BEGIN:VCALENDAR
VERSION:2.0
PRODID:-//Main Tap Tavern - ECPv6.9.0//NONSGML v1.0//EN
CALSCALE:GREGORIAN
METHOD:PUBLISH
X-ORIGINAL-URL:http://maintaptavern.com
X-WR-CALDESC:Events for Main Tap Tavern
REFRESH-INTERVAL;VALUE=DURATION:PT1H
X-Robots-Tag:noindex
X-PUBLISHED-TTL:PT1H
BEGIN:VTIMEZONE
TZID:America/Los_Angeles
BEGIN:DAYLIGHT
TZOFFSETFROM:-0800
TZOFFSETTO:-0700
TZNAME:PDT
DTSTART:20180311T100000
END:DAYLIGHT
BEGIN:STANDARD
TZOFFSETFROM:-0700
TZOFFSETTO:-0800
TZNAME:PST
DTSTART:20181104T090000
END:STANDARD
END:VTIMEZONE
BEGIN:VEVENT
DTSTART;VALUE=DATE:20180407
DTEND;VALUE=DATE:20180408
DTSTAMP:20260421T015042
CREATED:20180404T164512Z
LAST-MODIFIED:20180404T164512Z
UID:9040-1523059200-1523145599@maintaptavern.com
SUMMARY:UFC 223
DESCRIPTION:UFC 223 | Max Holloway vs. Khabib Nurmagomedov  \nYour spot for watching UFC while drinking great craft beer is at the Main Tap Tavern! UFC 223\, Saturday April 7th at 7pm! Preliminaries will start at 6pm\, so be here early to find a seat. Call ahead to reserve tables of 4 or more while they last!! $5 Cover!!
URL:http://maintaptavern.com/event/ufc-223/
LOCATION:Main Tap Tavern\, 518 E Main St\, El Cajon\, CA 92020\, El Cajon\, CA\, 92020\, United States
CATEGORIES:Events
ATTACH;FMTTYPE=image/jpeg:http://maintaptavern.com/wp-content/uploads/2018/02/UFC223.jpg
END:VEVENT
END:VCALENDAR