BEGIN:VCALENDAR
VERSION:2.0
PRODID:-//Main Tap Tavern - ECPv6.9.0//NONSGML v1.0//EN
CALSCALE:GREGORIAN
METHOD:PUBLISH
X-WR-CALNAME:Main Tap Tavern
X-ORIGINAL-URL:http://maintaptavern.com
X-WR-CALDESC:Events for Main Tap Tavern
REFRESH-INTERVAL;VALUE=DURATION:PT1H
X-Robots-Tag:noindex
X-PUBLISHED-TTL:PT1H
BEGIN:VTIMEZONE
TZID:America/Los_Angeles
BEGIN:DAYLIGHT
TZOFFSETFROM:-0800
TZOFFSETTO:-0700
TZNAME:PDT
DTSTART:20180311T100000
END:DAYLIGHT
BEGIN:STANDARD
TZOFFSETFROM:-0700
TZOFFSETTO:-0800
TZNAME:PST
DTSTART:20181104T090000
END:STANDARD
END:VTIMEZONE
BEGIN:VEVENT
DTSTART;VALUE=DATE:20180324
DTEND;VALUE=DATE:20180325
DTSTAMP:20260421T120548
CREATED:20180301T201752Z
LAST-MODIFIED:20180301T201752Z
UID:8943-1521849600-1521935999@maintaptavern.com
SUMMARY:Miss Demeanor
DESCRIPTION:Miss demeanor  \n9pm. No Cover! 21+ \nSan Diego’s premier band for dancing and entertainment Lead singer Torria Larsen\, a consummate professional sang on Broadway. Dave “Gypsy” Jett is an incredible front man and lead singer on his own. Joe Gridley has his guitar roots firmly embedded in the New Orleans southern rock scene and Martin Morford is one of Socals most energetic drummer!
URL:http://maintaptavern.com/event/demeanor-2/
LOCATION:Main Tap Tavern\, 518 E Main St\, El Cajon\, CA 92020\, El Cajon\, CA\, 92020\, United States
CATEGORIES:Events
ATTACH;FMTTYPE=image/jpeg:http://maintaptavern.com/wp-content/uploads/2018/01/MissDemeanor2018.jpg
END:VEVENT
END:VCALENDAR