BEGIN:VCALENDAR
VERSION:2.0
PRODID:-//Main Tap Tavern - ECPv6.9.0//NONSGML v1.0//EN
CALSCALE:GREGORIAN
METHOD:PUBLISH
X-WR-CALNAME:Main Tap Tavern
X-ORIGINAL-URL:http://maintaptavern.com
X-WR-CALDESC:Events for Main Tap Tavern
REFRESH-INTERVAL;VALUE=DURATION:PT1H
X-Robots-Tag:noindex
X-PUBLISHED-TTL:PT1H
BEGIN:VTIMEZONE
TZID:America/Los_Angeles
BEGIN:DAYLIGHT
TZOFFSETFROM:-0800
TZOFFSETTO:-0700
TZNAME:PDT
DTSTART:20180311T100000
END:DAYLIGHT
BEGIN:STANDARD
TZOFFSETFROM:-0700
TZOFFSETTO:-0800
TZNAME:PST
DTSTART:20181104T090000
END:STANDARD
END:VTIMEZONE
BEGIN:VEVENT
DTSTART;TZID=America/Los_Angeles:20180322T150000
DTEND;TZID=America/Los_Angeles:20180322T173000
DTSTAMP:20260421T155421
CREATED:20180103T053345Z
LAST-MODIFIED:20180103T053345Z
UID:8785-1521730800-1521739800@maintaptavern.com
SUMMARY:NY Rangers at Philadelphia Flyers 3pm
DESCRIPTION:March 22nd – NY Rangers at Philadelphia Flyers 3pm \nThursday Nights are NHL Rivalry Nights at Main Tap Tavern! \nCheck the Calendar to see when your favorite teams are playing. Come on down\, bring your friends and watch the game while you enjoy a delicious craft beer from one of our 24 Revolving Taps.
URL:http://maintaptavern.com/event/ny-rangers-philadelphia-flyers-3pm/
LOCATION:Main Tap Tavern\, 518 E Main St\, El Cajon\, CA 92020\, El Cajon\, CA\, 92020\, United States
CATEGORIES:Events
ATTACH;FMTTYPE=image/jpeg:http://maintaptavern.com/wp-content/uploads/2018/01/NHL-Rivalry.jpg
END:VEVENT
END:VCALENDAR