BEGIN:VCALENDAR
VERSION:2.0
PRODID:-//Main Tap Tavern - ECPv6.9.0//NONSGML v1.0//EN
CALSCALE:GREGORIAN
METHOD:PUBLISH
X-ORIGINAL-URL:http://maintaptavern.com
X-WR-CALDESC:Events for Main Tap Tavern
REFRESH-INTERVAL;VALUE=DURATION:PT1H
X-Robots-Tag:noindex
X-PUBLISHED-TTL:PT1H
BEGIN:VTIMEZONE
TZID:America/Los_Angeles
BEGIN:DAYLIGHT
TZOFFSETFROM:-0800
TZOFFSETTO:-0700
TZNAME:PDT
DTSTART:20180311T100000
END:DAYLIGHT
BEGIN:STANDARD
TZOFFSETFROM:-0700
TZOFFSETTO:-0800
TZNAME:PST
DTSTART:20181104T090000
END:STANDARD
END:VTIMEZONE
BEGIN:VEVENT
DTSTART;VALUE=DATE:20180311
DTEND;VALUE=DATE:20180312
DTSTAMP:20260422T110704
CREATED:20180301T201427Z
LAST-MODIFIED:20180301T201427Z
UID:8936-1520726400-1520812799@maintaptavern.com
SUMMARY:Selection Sunday
DESCRIPTION:NCAA March Madness Selection Sunday. \nJoin us March 11th @ 3pm for our Sunday Selection Party! We are hosting the Winning Team Competition. Individuals interested will randomly draw one team to win it all! Holder of the winning team will win Padres Tickets! \n(no purchase required and must be present during drawing to win) \nFollow us on your favorite social media outlet for more information about this date!
URL:http://maintaptavern.com/event/selection-sunday/
LOCATION:Main Tap Tavern\, 518 E Main St\, El Cajon\, CA 92020\, El Cajon\, CA\, 92020\, United States
CATEGORIES:Events
ATTACH;FMTTYPE=image/jpeg:http://maintaptavern.com/wp-content/uploads/2018/03/MarchMadness-SelectionSunday.jpg
END:VEVENT
END:VCALENDAR