BEGIN:VCALENDAR
VERSION:2.0
PRODID:-//Main Tap Tavern - ECPv6.9.0//NONSGML v1.0//EN
CALSCALE:GREGORIAN
METHOD:PUBLISH
X-ORIGINAL-URL:http://maintaptavern.com
X-WR-CALDESC:Events for Main Tap Tavern
REFRESH-INTERVAL;VALUE=DURATION:PT1H
X-Robots-Tag:noindex
X-PUBLISHED-TTL:PT1H
BEGIN:VTIMEZONE
TZID:America/Los_Angeles
BEGIN:DAYLIGHT
TZOFFSETFROM:-0800
TZOFFSETTO:-0700
TZNAME:PDT
DTSTART:20180311T100000
END:DAYLIGHT
BEGIN:STANDARD
TZOFFSETFROM:-0700
TZOFFSETTO:-0800
TZNAME:PST
DTSTART:20181104T090000
END:STANDARD
END:VTIMEZONE
BEGIN:VEVENT
DTSTART;VALUE=DATE:20180310
DTEND;VALUE=DATE:20180311
DTSTAMP:20260422T124028
CREATED:20180301T201304Z
LAST-MODIFIED:20180301T201304Z
UID:8933-1520640000-1520726399@maintaptavern.com
SUMMARY:Black Market III
DESCRIPTION:Black Market III Band 9pm. No Cover!! \nBlack Market III crosses over\, using the Blues as the root of the sound. In addition to their original music\, BMIII features more obscure covers from Tom Waits\, Wayne Walker\, Hank Williams Sr.\, Leadbelly\, Dead Weather\, Social Distortion\, and many more. No pigeon holing this band–Blues and American Roots firmly planted\, yet not like anything you’ve heard or seen before. The band prides itself on it’s ability to perform diversely and dynamically\, playing full blown concerts to small ‘stripped down’ semi-acoustic shows\, traditional blues to their trademarked ‘Grease Punk’ sound.
URL:http://maintaptavern.com/event/black-market-iii-11/
LOCATION:Main Tap Tavern\, 518 E Main St\, El Cajon\, CA 92020\, El Cajon\, CA\, 92020\, United States
CATEGORIES:Events
ATTACH;FMTTYPE=image/jpeg:http://maintaptavern.com/wp-content/uploads/2015/03/blackmarket2.jpg
END:VEVENT
END:VCALENDAR