BEGIN:VCALENDAR
VERSION:2.0
PRODID:-//Main Tap Tavern - ECPv6.9.0//NONSGML v1.0//EN
CALSCALE:GREGORIAN
METHOD:PUBLISH
X-WR-CALNAME:Main Tap Tavern
X-ORIGINAL-URL:http://maintaptavern.com
X-WR-CALDESC:Events for Main Tap Tavern
REFRESH-INTERVAL;VALUE=DURATION:PT1H
X-Robots-Tag:noindex
X-PUBLISHED-TTL:PT1H
BEGIN:VTIMEZONE
TZID:America/Los_Angeles
BEGIN:DAYLIGHT
TZOFFSETFROM:-0800
TZOFFSETTO:-0700
TZNAME:PDT
DTSTART:20180311T100000
END:DAYLIGHT
BEGIN:STANDARD
TZOFFSETFROM:-0700
TZOFFSETTO:-0800
TZNAME:PST
DTSTART:20181104T090000
END:STANDARD
END:VTIMEZONE
BEGIN:VEVENT
DTSTART;VALUE=DATE:20180303
DTEND;VALUE=DATE:20180304
DTSTAMP:20260423T012724
CREATED:20171202T215255Z
LAST-MODIFIED:20180204T200058Z
UID:8674-1520035200-1520121599@maintaptavern.com
SUMMARY:Live Music
DESCRIPTION:Live Music @ 9pm
URL:http://maintaptavern.com/event/live-music-2/
LOCATION:Main Tap Tavern\, 518 E Main St\, El Cajon\, CA 92020\, El Cajon\, CA\, 92020\, United States
CATEGORIES:Events
END:VEVENT
BEGIN:VEVENT
DTSTART;VALUE=DATE:20180303
DTEND;VALUE=DATE:20180304
DTSTAMP:20260423T012724
CREATED:20180301T201112Z
LAST-MODIFIED:20180301T201112Z
UID:8929-1520035200-1520121599@maintaptavern.com
SUMMARY:UFC 222
DESCRIPTION:UFC 222 | Cyborg vs. Kunitskaya \nYour spot for watching UFC while drinking great craft beer is at the Main Tap Tavern! UFC 222\, Saturday March 3rd at 7pm! $5 Cover. Preliminaries will start at 6pm\, so be here early to find a seat. Call ahead to reserve tables of 4 or more while they last!! \nFeaturing 21st Amendment Brewing
URL:http://maintaptavern.com/event/ufc-222/
LOCATION:Main Tap Tavern\, 518 E Main St\, El Cajon\, CA 92020\, El Cajon\, CA\, 92020\, United States
CATEGORIES:Events
ATTACH;FMTTYPE=image/jpeg:http://maintaptavern.com/wp-content/uploads/2018/02/ufc222.jpg
END:VEVENT
END:VCALENDAR