BEGIN:VCALENDAR
VERSION:2.0
PRODID:-//Main Tap Tavern - ECPv6.9.0//NONSGML v1.0//EN
CALSCALE:GREGORIAN
METHOD:PUBLISH
X-WR-CALNAME:Main Tap Tavern
X-ORIGINAL-URL:http://maintaptavern.com
X-WR-CALDESC:Events for Main Tap Tavern
REFRESH-INTERVAL;VALUE=DURATION:PT1H
X-Robots-Tag:noindex
X-PUBLISHED-TTL:PT1H
BEGIN:VTIMEZONE
TZID:America/Los_Angeles
BEGIN:DAYLIGHT
TZOFFSETFROM:-0800
TZOFFSETTO:-0700
TZNAME:PDT
DTSTART:20180311T100000
END:DAYLIGHT
BEGIN:STANDARD
TZOFFSETFROM:-0700
TZOFFSETTO:-0800
TZNAME:PST
DTSTART:20181104T090000
END:STANDARD
END:VTIMEZONE
BEGIN:VEVENT
DTSTART;VALUE=DATE:20180224
DTEND;VALUE=DATE:20180225
DTSTAMP:20260423T102431
CREATED:20180204T200004Z
LAST-MODIFIED:20180204T200004Z
UID:8876-1519430400-1519516799@maintaptavern.com
SUMMARY:Punk Night
DESCRIPTION:Main Tap’s Punk Night Featuring Ironfire Brewing\, 3 Punk Ales\, and Thorn Street Brewing Co. No Cover!! \nJoin us as we bring together 2 of the best things in life\, music and craft beer. We will be having 2 for $5 on cans from Ironfire and Thorn St\, as well as 5$ pints from 3 Punk Ales. this is a free show\, so come show support to these awesome bands!!
URL:http://maintaptavern.com/event/punk-night/
LOCATION:Main Tap Tavern\, 518 E Main St\, El Cajon\, CA 92020\, El Cajon\, CA\, 92020\, United States
CATEGORIES:Events
ATTACH;FMTTYPE=image/jpeg:http://maintaptavern.com/wp-content/uploads/2018/02/punknight2018.jpg
END:VEVENT
END:VCALENDAR