BEGIN:VCALENDAR
VERSION:2.0
PRODID:-//Main Tap Tavern - ECPv6.9.0//NONSGML v1.0//EN
CALSCALE:GREGORIAN
METHOD:PUBLISH
X-ORIGINAL-URL:http://maintaptavern.com
X-WR-CALDESC:Events for Main Tap Tavern
REFRESH-INTERVAL;VALUE=DURATION:PT1H
X-Robots-Tag:noindex
X-PUBLISHED-TTL:PT1H
BEGIN:VTIMEZONE
TZID:America/Los_Angeles
BEGIN:DAYLIGHT
TZOFFSETFROM:-0800
TZOFFSETTO:-0700
TZNAME:PDT
DTSTART:20180311T100000
END:DAYLIGHT
BEGIN:STANDARD
TZOFFSETFROM:-0700
TZOFFSETTO:-0800
TZNAME:PST
DTSTART:20181104T090000
END:STANDARD
END:VTIMEZONE
BEGIN:VEVENT
DTSTART;VALUE=DATE:20180223
DTEND;VALUE=DATE:20180224
DTSTAMP:20260423T101634
CREATED:20180204T195854Z
LAST-MODIFIED:20180204T195854Z
UID:8874-1519344000-1519430399@maintaptavern.com
SUMMARY:Laughs & Crafts
DESCRIPTION:Laughs and Crafts Comedy Night at Main Tap 8pm. FREE!! \nJoin us for a night of comedy brought to you by Wes Sample. we will have $4 Hamms Cans and 5$ Fireball shots. Show starts at 8pm so get here early to grab a seat at the bar.
URL:http://maintaptavern.com/event/laughs-crafts-2/
LOCATION:Main Tap Tavern\, 518 E Main St\, El Cajon\, CA 92020\, El Cajon\, CA\, 92020\, United States
CATEGORIES:Events
ATTACH;FMTTYPE=image/jpeg:http://maintaptavern.com/wp-content/uploads/2018/02/laughs-crafts.jpg
END:VEVENT
END:VCALENDAR