BEGIN:VCALENDAR
VERSION:2.0
PRODID:-//Main Tap Tavern - ECPv6.9.0//NONSGML v1.0//EN
CALSCALE:GREGORIAN
METHOD:PUBLISH
X-ORIGINAL-URL:http://maintaptavern.com
X-WR-CALDESC:Events for Main Tap Tavern
REFRESH-INTERVAL;VALUE=DURATION:PT1H
X-Robots-Tag:noindex
X-PUBLISHED-TTL:PT1H
BEGIN:VTIMEZONE
TZID:America/Los_Angeles
BEGIN:DAYLIGHT
TZOFFSETFROM:-0800
TZOFFSETTO:-0700
TZNAME:PDT
DTSTART:20180311T100000
END:DAYLIGHT
BEGIN:STANDARD
TZOFFSETFROM:-0700
TZOFFSETTO:-0800
TZNAME:PST
DTSTART:20181104T090000
END:STANDARD
END:VTIMEZONE
BEGIN:VEVENT
DTSTART;TZID=America/Los_Angeles:20180222T160000
DTEND;TZID=America/Los_Angeles:20180222T183000
DTSTAMP:20260423T102613
CREATED:20180103T052950Z
LAST-MODIFIED:20180103T052950Z
UID:8777-1519315200-1519324200@maintaptavern.com
SUMMARY:Columbus Blue Jackets at Philadelphia Flyers 4pm
DESCRIPTION:February 22nd – Columbus Blue Jackets at Philadelphia Flyers 4pm \nThursday Nights are NHL Rivalry Nights at Main Tap Tavern! \nCheck the Calendar to see when your favorite teams are playing. Come on down\, bring your friends and watch the game while you enjoy a delicious craft beer from one of our 24 Revolving Taps.
URL:http://maintaptavern.com/event/columbus-blue-jackets-philadelphia-flyers-4pm/
LOCATION:Main Tap Tavern\, 518 E Main St\, El Cajon\, CA 92020\, El Cajon\, CA\, 92020\, United States
CATEGORIES:Events
ATTACH;FMTTYPE=image/jpeg:http://maintaptavern.com/wp-content/uploads/2018/01/NHL-Rivalry.jpg
END:VEVENT
END:VCALENDAR