BEGIN:VCALENDAR
VERSION:2.0
PRODID:-//Main Tap Tavern - ECPv6.9.0//NONSGML v1.0//EN
CALSCALE:GREGORIAN
METHOD:PUBLISH
X-ORIGINAL-URL:http://maintaptavern.com
X-WR-CALDESC:Events for Main Tap Tavern
REFRESH-INTERVAL;VALUE=DURATION:PT1H
X-Robots-Tag:noindex
X-PUBLISHED-TTL:PT1H
BEGIN:VTIMEZONE
TZID:America/Los_Angeles
BEGIN:DAYLIGHT
TZOFFSETFROM:-0800
TZOFFSETTO:-0700
TZNAME:PDT
DTSTART:20180311T100000
END:DAYLIGHT
BEGIN:STANDARD
TZOFFSETFROM:-0700
TZOFFSETTO:-0800
TZNAME:PST
DTSTART:20181104T090000
END:STANDARD
END:VTIMEZONE
BEGIN:VEVENT
DTSTART;VALUE=DATE:20180221
DTEND;VALUE=DATE:20180222
DTSTAMP:20260423T101542
CREATED:20180204T195648Z
LAST-MODIFIED:20180204T195648Z
UID:8869-1519171200-1519257599@maintaptavern.com
SUMMARY:Paint & Pint Night
DESCRIPTION:Paint & Pint Night featuring Barley Forge Brewing. $25 per person.  \n$25 gets you a seat w/ a canvas and a glass or wine or a pint from Barley Forge. \nIt’s Wine Wednesday so all bottles of wine are half off. \nRSVP soon as space is limited.
URL:http://maintaptavern.com/event/paint-pint-night/
LOCATION:Main Tap Tavern\, 518 E Main St\, El Cajon\, CA 92020\, El Cajon\, CA\, 92020\, United States
CATEGORIES:Events
ATTACH;FMTTYPE=image/jpeg:http://maintaptavern.com/wp-content/uploads/2018/02/BarleyForge_Paint-Pint.jpg
END:VEVENT
BEGIN:VEVENT
DTSTART;VALUE=DATE:20180221
DTEND;VALUE=DATE:20180222
DTSTAMP:20260423T101542
CREATED:20180204T195755Z
LAST-MODIFIED:20180204T195755Z
UID:8871-1519171200-1519257599@maintaptavern.com
SUMMARY:Burning Beard Cask
DESCRIPTION:Burning Beard Cask 3pm.
URL:http://maintaptavern.com/event/burning-beard-cask/
LOCATION:Main Tap Tavern\, 518 E Main St\, El Cajon\, CA 92020\, El Cajon\, CA\, 92020\, United States
CATEGORIES:Events
ATTACH;FMTTYPE=image/jpeg:http://maintaptavern.com/wp-content/uploads/2017/11/BurningBeardCask.jpg
END:VEVENT
END:VCALENDAR