BEGIN:VCALENDAR
VERSION:2.0
PRODID:-//Main Tap Tavern - ECPv6.9.0//NONSGML v1.0//EN
CALSCALE:GREGORIAN
METHOD:PUBLISH
X-ORIGINAL-URL:http://maintaptavern.com
X-WR-CALDESC:Events for Main Tap Tavern
REFRESH-INTERVAL;VALUE=DURATION:PT1H
X-Robots-Tag:noindex
X-PUBLISHED-TTL:PT1H
BEGIN:VTIMEZONE
TZID:America/Los_Angeles
BEGIN:DAYLIGHT
TZOFFSETFROM:-0800
TZOFFSETTO:-0700
TZNAME:PDT
DTSTART:20180311T100000
END:DAYLIGHT
BEGIN:STANDARD
TZOFFSETFROM:-0700
TZOFFSETTO:-0800
TZNAME:PST
DTSTART:20181104T090000
END:STANDARD
END:VTIMEZONE
BEGIN:VEVENT
DTSTART;VALUE=DATE:20180210
DTEND;VALUE=DATE:20180211
DTSTAMP:20260423T101613
CREATED:20180204T195438Z
LAST-MODIFIED:20180204T195438Z
UID:8865-1518220800-1518307199@maintaptavern.com
SUMMARY:UFC 221
DESCRIPTION:UFC 221 | Romero vs. Rockhold (Hunt vs. Blaydes) \nYour spot for watching UFC while drinking great craft beer is at the Main Tap Tavern! UFC 221\, Saturday FEb 10th at 7pm! $5 Cover. Preliminaries will start at 6pm\, so be here early to find a seat. Call ahead to reserve tables of 4 or more while they last!! \nLive Music with Shane Hall @ 9pm \nA versatile multi faceted LIVE experience in Rock Blues and acoustic stylings\, with various arrangements of instrumentation and personnel.
URL:http://maintaptavern.com/event/ufc-221/
LOCATION:Main Tap Tavern\, 518 E Main St\, El Cajon\, CA 92020\, El Cajon\, CA\, 92020\, United States
CATEGORIES:Events
ATTACH;FMTTYPE=image/jpeg:http://maintaptavern.com/wp-content/uploads/2018/02/ufc221Feb10.jpg
END:VEVENT
END:VCALENDAR