BEGIN:VCALENDAR
VERSION:2.0
PRODID:-//Main Tap Tavern - ECPv6.9.0//NONSGML v1.0//EN
CALSCALE:GREGORIAN
METHOD:PUBLISH
X-ORIGINAL-URL:http://maintaptavern.com
X-WR-CALDESC:Events for Main Tap Tavern
REFRESH-INTERVAL;VALUE=DURATION:PT1H
X-Robots-Tag:noindex
X-PUBLISHED-TTL:PT1H
BEGIN:VTIMEZONE
TZID:America/Los_Angeles
BEGIN:DAYLIGHT
TZOFFSETFROM:-0800
TZOFFSETTO:-0700
TZNAME:PDT
DTSTART:20180311T100000
END:DAYLIGHT
BEGIN:STANDARD
TZOFFSETFROM:-0700
TZOFFSETTO:-0800
TZNAME:PST
DTSTART:20181104T090000
END:STANDARD
END:VTIMEZONE
BEGIN:VEVENT
DTSTART;VALUE=DATE:20180207
DTEND;VALUE=DATE:20180208
DTSTAMP:20260423T102550
CREATED:20180102T234406Z
LAST-MODIFIED:20180204T200328Z
UID:8733-1517961600-1518047999@maintaptavern.com
SUMMARY:Wednesday Trivioke & $6 Ruebens
DESCRIPTION:Wednesday Trivioke & $6 Ruebens \nMain Tap is merging our karaoke and trivia on Wednesday nights for a little #TRIVIOKE action. Trivia from 6-8pm with your favorite host Sarah\, followed by karaoke with KJ Quenga from 8pm to close. $6 Ruebens and two awesome events along with the always epic Cask Night. Don’t miss out!
URL:http://maintaptavern.com/event/wednesday-trivioke-6-ruebens/
LOCATION:Main Tap Tavern\, 518 E Main St\, El Cajon\, CA 92020\, El Cajon\, CA\, 92020\, United States
CATEGORIES:Events
ATTACH;FMTTYPE=image/jpeg:http://maintaptavern.com/wp-content/uploads/2015/05/trivia2016.jpg
END:VEVENT
BEGIN:VEVENT
DTSTART;VALUE=DATE:20180207
DTEND;VALUE=DATE:20180208
DTSTAMP:20260423T102550
CREATED:20180204T195333Z
LAST-MODIFIED:20180204T195333Z
UID:8863-1517961600-1518047999@maintaptavern.com
SUMMARY:GroundSwell Cask
DESCRIPTION:Groundswell NEW DIPA Cask 3pm. \nEstablished in November 2013\, Groundswell Brewing Company focuses on high-quality\, well-balanced beer with nuanced flavor. Our beers are often lower in alcohol content to highlight flavors. This means our beer pairs well with food\, and plays well with a San Diego lifestyle. It can be enjoyed playing sports\, during a day at the beach\, and with friends and family. We do the hoppy\, dank thing too…but overall\, our portfolio of beers is balanced.
URL:http://maintaptavern.com/event/groundswell-cask/
LOCATION:Main Tap Tavern\, 518 E Main St\, El Cajon\, CA 92020\, El Cajon\, CA\, 92020\, United States
CATEGORIES:Events
ATTACH;FMTTYPE=image/jpeg:http://maintaptavern.com/wp-content/uploads/2018/02/GroundSwell-DIPA.jpg
END:VEVENT
END:VCALENDAR