BEGIN:VCALENDAR
VERSION:2.0
PRODID:-//Main Tap Tavern - ECPv6.9.0//NONSGML v1.0//EN
CALSCALE:GREGORIAN
METHOD:PUBLISH
X-ORIGINAL-URL:http://maintaptavern.com
X-WR-CALDESC:Events for Main Tap Tavern
REFRESH-INTERVAL;VALUE=DURATION:PT1H
X-Robots-Tag:noindex
X-PUBLISHED-TTL:PT1H
BEGIN:VTIMEZONE
TZID:America/Los_Angeles
BEGIN:DAYLIGHT
TZOFFSETFROM:-0800
TZOFFSETTO:-0700
TZNAME:PDT
DTSTART:20180311T100000
END:DAYLIGHT
BEGIN:STANDARD
TZOFFSETFROM:-0700
TZOFFSETTO:-0800
TZNAME:PST
DTSTART:20181104T090000
END:STANDARD
END:VTIMEZONE
BEGIN:VEVENT
DTSTART;VALUE=DATE:20180204
DTEND;VALUE=DATE:20180205
DTSTAMP:20260423T102511
CREATED:20180117T190229Z
LAST-MODIFIED:20180117T190230Z
UID:8808-1517702400-1517788799@maintaptavern.com
SUMMARY:Super Bowl LII Party
DESCRIPTION:Sunday February 4th 2018 – Will be our Super Bowl LII Party @ Main Tap Tavern \nMain Tap Tavern is the spot for all your favorite NFL action! Join us for the biggest NFL game of the year! We will have happy hour all day on shots beer & food.
URL:http://maintaptavern.com/event/super-bowl-lii-party/
LOCATION:Main Tap Tavern\, 518 E Main St\, El Cajon\, CA 92020\, El Cajon\, CA\, 92020\, United States
CATEGORIES:Events
ATTACH;FMTTYPE=image/jpeg:http://maintaptavern.com/wp-content/uploads/2018/01/SuperBowl-LII.jpg
END:VEVENT
END:VCALENDAR