BEGIN:VCALENDAR
VERSION:2.0
PRODID:-//Main Tap Tavern - ECPv6.9.0//NONSGML v1.0//EN
CALSCALE:GREGORIAN
METHOD:PUBLISH
X-WR-CALNAME:Main Tap Tavern
X-ORIGINAL-URL:http://maintaptavern.com
X-WR-CALDESC:Events for Main Tap Tavern
REFRESH-INTERVAL;VALUE=DURATION:PT1H
X-Robots-Tag:noindex
X-PUBLISHED-TTL:PT1H
BEGIN:VTIMEZONE
TZID:America/Los_Angeles
BEGIN:DAYLIGHT
TZOFFSETFROM:-0800
TZOFFSETTO:-0700
TZNAME:PDT
DTSTART:20180311T100000
END:DAYLIGHT
BEGIN:STANDARD
TZOFFSETFROM:-0700
TZOFFSETTO:-0800
TZNAME:PST
DTSTART:20181104T090000
END:STANDARD
END:VTIMEZONE
BEGIN:VEVENT
DTSTART;VALUE=DATE:20180110
DTEND;VALUE=DATE:20180111
DTSTAMP:20260423T114123
CREATED:20171230T025133Z
LAST-MODIFIED:20171230T025133Z
UID:8697-1515542400-1515628799@maintaptavern.com
SUMMARY:Islander w/ Starbursts
DESCRIPTION:Named after Coronado Island\, our original India Pale Ale is a liquid expression of hometown pride. Centennial\, Chinook and Columbus hops combine to provide an explosive burst of piney bitterness and luscious notes of apricot\, grapefruit and mango that are sure to evoke imagery of swaying palms and sun-kissed shores.
URL:http://maintaptavern.com/event/islander-w-starbursts/
LOCATION:Main Tap Tavern\, 518 E Main St\, El Cajon\, CA 92020\, El Cajon\, CA\, 92020\, United States
CATEGORIES:Events
ATTACH;FMTTYPE=image/jpeg:http://maintaptavern.com/wp-content/uploads/2015/02/coronadostarbursts.jpg
END:VEVENT
BEGIN:VEVENT
DTSTART;VALUE=DATE:20180110
DTEND;VALUE=DATE:20180111
DTSTAMP:20260423T114123
CREATED:20160301T090849Z
LAST-MODIFIED:20180102T233329Z
UID:7606-1515542400-1515628799@maintaptavern.com
SUMMARY:Wednesday Trivioke & $6 Ruebens
DESCRIPTION:Wednesday Trivioke & $6 Ruebens \nMain Tap is merging our karaoke and trivia on Wednesday nights for a little #TRIVIOKE action. Trivia from 6-8pm with your favorite host Sarah\, followed by karaoke with KJ Quenga from 8pm to close. $6 Ruebens and two awesome events along with the always epic Cask Night. Don’t miss out!
URL:http://maintaptavern.com/event/wednesday-trivioke-29/
LOCATION:Main Tap Tavern\, 518 E Main St\, El Cajon\, CA 92020\, El Cajon\, CA\, 92020\, United States
CATEGORIES:Events
ATTACH;FMTTYPE=image/jpeg:http://maintaptavern.com/wp-content/uploads/2015/05/trivia2016.jpg
END:VEVENT
END:VCALENDAR