BEGIN:VCALENDAR
VERSION:2.0
PRODID:-//Main Tap Tavern - ECPv6.9.0//NONSGML v1.0//EN
CALSCALE:GREGORIAN
METHOD:PUBLISH
X-ORIGINAL-URL:http://maintaptavern.com
X-WR-CALDESC:Events for Main Tap Tavern
REFRESH-INTERVAL;VALUE=DURATION:PT1H
X-Robots-Tag:noindex
X-PUBLISHED-TTL:PT1H
BEGIN:VTIMEZONE
TZID:America/Los_Angeles
BEGIN:DAYLIGHT
TZOFFSETFROM:-0800
TZOFFSETTO:-0700
TZNAME:PDT
DTSTART:20170312T100000
END:DAYLIGHT
BEGIN:STANDARD
TZOFFSETFROM:-0700
TZOFFSETTO:-0800
TZNAME:PST
DTSTART:20171105T090000
END:STANDARD
END:VTIMEZONE
BEGIN:VEVENT
DTSTART;VALUE=DATE:20171213
DTEND;VALUE=DATE:20171214
DTSTAMP:20260423T133643
CREATED:20171202T024300Z
LAST-MODIFIED:20171202T024300Z
UID:8596-1513123200-1513209599@maintaptavern.com
SUMMARY:Ironfire Cask
DESCRIPTION:Ironfire Candy Cane Six Killer Stout Cask 3pm.  \nSix Killer Stout is not for the faint of heart. Six malts\, six hop varieties\, six ingredients—it’s a triple threat. Brewed in the style of a traditional stout with 100 percent Arabica Hazelnut coffee beans to get your clips spinning. Feeling strong? Step up to Six Killer and see who’s boss! 6% ABV\, 60 IBU
URL:http://maintaptavern.com/event/ironfire-cask/
LOCATION:Main Tap Tavern\, 518 E Main St\, El Cajon\, CA 92020\, El Cajon\, CA\, 92020\, United States
CATEGORIES:Events
ATTACH;FMTTYPE=image/jpeg:http://maintaptavern.com/wp-content/uploads/2017/12/ironfirecandycane.jpg
END:VEVENT
END:VCALENDAR