BEGIN:VCALENDAR
VERSION:2.0
PRODID:-//Main Tap Tavern - ECPv6.9.0//NONSGML v1.0//EN
CALSCALE:GREGORIAN
METHOD:PUBLISH
X-WR-CALNAME:Main Tap Tavern
X-ORIGINAL-URL:http://maintaptavern.com
X-WR-CALDESC:Events for Main Tap Tavern
REFRESH-INTERVAL;VALUE=DURATION:PT1H
X-Robots-Tag:noindex
X-PUBLISHED-TTL:PT1H
BEGIN:VTIMEZONE
TZID:America/Los_Angeles
BEGIN:DAYLIGHT
TZOFFSETFROM:-0800
TZOFFSETTO:-0700
TZNAME:PDT
DTSTART:20170312T100000
END:DAYLIGHT
BEGIN:STANDARD
TZOFFSETFROM:-0700
TZOFFSETTO:-0800
TZNAME:PST
DTSTART:20171105T090000
END:STANDARD
END:VTIMEZONE
BEGIN:VEVENT
DTSTART;VALUE=DATE:20171108
DTEND;VALUE=DATE:20171109
DTSTAMP:20260423T151924
CREATED:20171102T072126Z
LAST-MODIFIED:20171102T072126Z
UID:8511-1510099200-1510185599@maintaptavern.com
SUMMARY:$6 Rueben
DESCRIPTION:$6 Rueben
URL:http://maintaptavern.com/event/6-rueben-2/
LOCATION:Main Tap Tavern\, 518 E Main St\, El Cajon\, CA 92020\, El Cajon\, CA\, 92020\, United States
CATEGORIES:Events
END:VEVENT
BEGIN:VEVENT
DTSTART;VALUE=DATE:20171108
DTEND;VALUE=DATE:20171109
DTSTAMP:20260423T151924
CREATED:20171102T072745Z
LAST-MODIFIED:20171102T072745Z
UID:8522-1510099200-1510185599@maintaptavern.com
SUMMARY:Artifex Cask
DESCRIPTION:Artifex Brewing Cask 3pm.  \n\nArtifex is a craft brewery located at the south end of Orange County\, California in the beautiful beach town of San Clemente. Ours is a labor of love and we want to share it with you. Come join us in our tasting room\, or ask for it at your favorite bar or restaurant.
URL:http://maintaptavern.com/event/artifex-cask/
LOCATION:Main Tap Tavern\, 518 E Main St\, El Cajon\, CA 92020\, El Cajon\, CA\, 92020\, United States
CATEGORIES:Events
ATTACH;FMTTYPE=image/jpeg:http://maintaptavern.com/wp-content/uploads/2017/11/ArtifexCask.jpg
END:VEVENT
END:VCALENDAR