BEGIN:VCALENDAR
VERSION:2.0
PRODID:-//Main Tap Tavern - ECPv6.9.0//NONSGML v1.0//EN
CALSCALE:GREGORIAN
METHOD:PUBLISH
X-ORIGINAL-URL:http://maintaptavern.com
X-WR-CALDESC:Events for Main Tap Tavern
REFRESH-INTERVAL;VALUE=DURATION:PT1H
X-Robots-Tag:noindex
X-PUBLISHED-TTL:PT1H
BEGIN:VTIMEZONE
TZID:America/Los_Angeles
BEGIN:DAYLIGHT
TZOFFSETFROM:-0800
TZOFFSETTO:-0700
TZNAME:PDT
DTSTART:20170312T100000
END:DAYLIGHT
BEGIN:STANDARD
TZOFFSETFROM:-0700
TZOFFSETTO:-0800
TZNAME:PST
DTSTART:20171105T090000
END:STANDARD
END:VTIMEZONE
BEGIN:VEVENT
DTSTART;VALUE=DATE:20171013
DTEND;VALUE=DATE:20171016
DTSTAMP:20260423T170835
CREATED:20171010T051122Z
LAST-MODIFIED:20171010T055158Z
UID:8438-1507852800-1508111999@maintaptavern.com
SUMMARY:Oktoberfest 2017
DESCRIPTION:  \n\nhttp://www.maintaptavern.com/wp-content/uploads/2017/10/Main-Tap-Oktoberfest.mp4\n  \nOktoberfest 2017!  10/13 – 10/15 (or until supplies last)\n \nStarting on 10/13 you can Purchase a Custom Main Tap / Thorn Street Collaboration liter stein for $20 – filled with any Oktoberfest beer! Keep the stein and use it year round for select beers every Sunday & Monday! \nFeaturing: A Special Cask from Thorn Street on Saturday 10/14 \n 
URL:http://maintaptavern.com/event/oktoberfest-2017/
LOCATION:Main Tap Tavern\, 518 E Main St\, El Cajon\, CA 92020\, El Cajon\, CA\, 92020\, United States
CATEGORIES:Events
ATTACH;FMTTYPE=image/jpeg:http://maintaptavern.com/wp-content/uploads/2017/10/mt_oktober-2017.jpg
END:VEVENT
END:VCALENDAR