BEGIN:VCALENDAR
VERSION:2.0
PRODID:-//Main Tap Tavern - ECPv6.9.0//NONSGML v1.0//EN
CALSCALE:GREGORIAN
METHOD:PUBLISH
X-WR-CALNAME:Main Tap Tavern
X-ORIGINAL-URL:http://maintaptavern.com
X-WR-CALDESC:Events for Main Tap Tavern
REFRESH-INTERVAL;VALUE=DURATION:PT1H
X-Robots-Tag:noindex
X-PUBLISHED-TTL:PT1H
BEGIN:VTIMEZONE
TZID:America/Los_Angeles
BEGIN:DAYLIGHT
TZOFFSETFROM:-0800
TZOFFSETTO:-0700
TZNAME:PDT
DTSTART:20170312T100000
END:DAYLIGHT
BEGIN:STANDARD
TZOFFSETFROM:-0700
TZOFFSETTO:-0800
TZNAME:PST
DTSTART:20171105T090000
END:STANDARD
END:VTIMEZONE
BEGIN:VEVENT
DTSTART;TZID=America/Los_Angeles:20170709T140000
DTEND;TZID=America/Los_Angeles:20170709T220000
DTSTAMP:20260424T023653
CREATED:20170707T085234Z
LAST-MODIFIED:20170707T085234Z
UID:8306-1499608800-1499637600@maintaptavern.com
SUMMARY:Hangar 24 BBQ
DESCRIPTION:Hangar 24 BBQ – 2pm  \nThe last stop of our anniversary celebration is an outstanding BBQ with the Hangar 24 team. We will be serving up some rare Hangar beers as well as some awesome smoked pulled pork sandwich plates. Party starts at 2pm and there should be plenty of awesome beers still on tap from the weekend.
URL:http://maintaptavern.com/event/hangar-24-bbq/
LOCATION:Main Tap Tavern\, 518 E Main St\, El Cajon\, CA 92020\, El Cajon\, CA\, 92020\, United States
CATEGORIES:Events
ATTACH;FMTTYPE=image/jpeg:http://maintaptavern.com/wp-content/uploads/2017/07/hangar_Bbq2017.jpg
END:VEVENT
END:VCALENDAR