BEGIN:VCALENDAR
VERSION:2.0
PRODID:-//Main Tap Tavern - ECPv6.9.0//NONSGML v1.0//EN
CALSCALE:GREGORIAN
METHOD:PUBLISH
X-ORIGINAL-URL:http://maintaptavern.com
X-WR-CALDESC:Events for Main Tap Tavern
REFRESH-INTERVAL;VALUE=DURATION:PT1H
X-Robots-Tag:noindex
X-PUBLISHED-TTL:PT1H
BEGIN:VTIMEZONE
TZID:America/Los_Angeles
BEGIN:DAYLIGHT
TZOFFSETFROM:-0800
TZOFFSETTO:-0700
TZNAME:PDT
DTSTART:20170312T100000
END:DAYLIGHT
BEGIN:STANDARD
TZOFFSETFROM:-0700
TZOFFSETTO:-0800
TZNAME:PST
DTSTART:20171105T090000
END:STANDARD
END:VTIMEZONE
BEGIN:VEVENT
DTSTART;VALUE=DATE:20170527
DTEND;VALUE=DATE:20170528
DTSTAMP:20260424T092050
CREATED:20170508T215010Z
LAST-MODIFIED:20170508T215010Z
UID:8212-1495843200-1495929599@maintaptavern.com
SUMMARY:Josie Day Band
DESCRIPTION:Josie Day band 9pm. No Cover!!\nIt’s no secret that the music biz is tougher than ever. With life offering so many options\, only the best music\, by the most driven\, has a chance at trying to grab the brass ring. But keep in mind things get exponentially harder the further away from the mainstream limelight that you are. Which bring us to acclaimed singer\, Josie Day. Currently\, Day is in the studio\, putting the finishing touches on her debut EP. She’s a gifted pop vocalist who doesn’t shy away from hip-hop\, R&B and rock influences. She is in the midst of a series of club dates honing her band in preparation for touring. She’s building a strong Southern California following through gigs ranging everywhere from the San Diego County Fair\, to the Ramona Main Stage.
URL:http://maintaptavern.com/event/josie-day-band/
LOCATION:Main Tap Tavern\, 518 E Main St\, El Cajon\, CA 92020\, El Cajon\, CA\, 92020\, United States
CATEGORIES:Events
ATTACH;FMTTYPE=image/jpeg:http://maintaptavern.com/wp-content/uploads/2017/05/JosieDay.jpg
END:VEVENT
END:VCALENDAR