BEGIN:VCALENDAR
VERSION:2.0
PRODID:-//Main Tap Tavern - ECPv6.9.0//NONSGML v1.0//EN
CALSCALE:GREGORIAN
METHOD:PUBLISH
X-WR-CALNAME:Main Tap Tavern
X-ORIGINAL-URL:http://maintaptavern.com
X-WR-CALDESC:Events for Main Tap Tavern
REFRESH-INTERVAL;VALUE=DURATION:PT1H
X-Robots-Tag:noindex
X-PUBLISHED-TTL:PT1H
BEGIN:VTIMEZONE
TZID:America/Los_Angeles
BEGIN:DAYLIGHT
TZOFFSETFROM:-0800
TZOFFSETTO:-0700
TZNAME:PDT
DTSTART:20170312T100000
END:DAYLIGHT
BEGIN:STANDARD
TZOFFSETFROM:-0700
TZOFFSETTO:-0800
TZNAME:PST
DTSTART:20171105T090000
END:STANDARD
END:VTIMEZONE
BEGIN:VEVENT
DTSTART;VALUE=DATE:20170505
DTEND;VALUE=DATE:20170506
DTSTAMP:20260424T055704
CREATED:20170506T015622Z
LAST-MODIFIED:20170506T015622Z
UID:8192-1493942400-1494028799@maintaptavern.com
SUMMARY:Cinco De Mayo
DESCRIPTION:Friday 5/5 –Cinco de Mayo – Drink Specials & Karaoke 9pm \nHappy Cinco de Mayo!! $4 Montejo and $5 Mikkeller Drinco De Mayo pints all day\, as well as our other Cinco specials. \n· $4 Mexican Draft\n· $4 Dos X & Corona\n· $4.50 Well Tequila\n· $5 Sauza Shots\n· $5 Cazadores Shots\n· $5 Margaritas \n\n$2.50 Fish Tacos\n$5 Street Tacos
URL:http://maintaptavern.com/event/cinco-de-mayo/
LOCATION:Main Tap Tavern\, 518 E Main St\, El Cajon\, CA 92020\, El Cajon\, CA\, 92020\, United States
CATEGORIES:Events
ATTACH;FMTTYPE=image/jpeg:http://maintaptavern.com/wp-content/uploads/2017/05/CincoDeMayo2017.jpg
END:VEVENT
END:VCALENDAR