BEGIN:VCALENDAR
VERSION:2.0
PRODID:-//Main Tap Tavern - ECPv6.9.0//NONSGML v1.0//EN
CALSCALE:GREGORIAN
METHOD:PUBLISH
X-ORIGINAL-URL:http://maintaptavern.com
X-WR-CALDESC:Events for Main Tap Tavern
REFRESH-INTERVAL;VALUE=DURATION:PT1H
X-Robots-Tag:noindex
X-PUBLISHED-TTL:PT1H
BEGIN:VTIMEZONE
TZID:America/Los_Angeles
BEGIN:DAYLIGHT
TZOFFSETFROM:-0800
TZOFFSETTO:-0700
TZNAME:PDT
DTSTART:20170312T100000
END:DAYLIGHT
BEGIN:STANDARD
TZOFFSETFROM:-0700
TZOFFSETTO:-0800
TZNAME:PST
DTSTART:20171105T090000
END:STANDARD
END:VTIMEZONE
BEGIN:VEVENT
DTSTART;VALUE=DATE:20170426
DTEND;VALUE=DATE:20170427
DTSTAMP:20260424T073337
CREATED:20170405T074545Z
LAST-MODIFIED:20170405T074545Z
UID:8171-1493164800-1493251199@maintaptavern.com
SUMMARY:Mikkeller Cask
DESCRIPTION:Mikkeller Brewing Cask Event \nMIKKELLER BREWING SAN DIEGO IS A NEW BRAND DEEPLY ROOTED IN THE FRIENDSHIP OF TWO WORLD RENOWNED BREWERIES\, (GYPSY TRAILBLAZERS) MIKKELLER AND (LEGENDARY) ALESMITH. THE VISION IS TO MERGE THE BEST CRAFT BEER TRADITIONS OF EUROPE AND SOUTHERN CALIFORNIA\, WHILE EMPLOYING A CURIOSITY IN EXPLORING THE BOUNDARIES FOR MODERN BEER BREWING. EXPECT SUPER FRESH\, HOPPY BEERS AS WELL AS CLASSIC EUROPEAN STYLES.
URL:http://maintaptavern.com/event/mikkeller-cask/
LOCATION:Main Tap Tavern\, 518 E Main St\, El Cajon\, CA 92020\, El Cajon\, CA\, 92020\, United States
CATEGORIES:Events
ATTACH;FMTTYPE=image/jpeg:http://maintaptavern.com/wp-content/uploads/2017/02/MikkellerCask2017.jpg
END:VEVENT
END:VCALENDAR