BEGIN:VCALENDAR
VERSION:2.0
PRODID:-//Main Tap Tavern - ECPv6.9.0//NONSGML v1.0//EN
CALSCALE:GREGORIAN
METHOD:PUBLISH
X-WR-CALNAME:Main Tap Tavern
X-ORIGINAL-URL:http://maintaptavern.com
X-WR-CALDESC:Events for Main Tap Tavern
REFRESH-INTERVAL;VALUE=DURATION:PT1H
X-Robots-Tag:noindex
X-PUBLISHED-TTL:PT1H
BEGIN:VTIMEZONE
TZID:America/Los_Angeles
BEGIN:DAYLIGHT
TZOFFSETFROM:-0800
TZOFFSETTO:-0700
TZNAME:PDT
DTSTART:20170312T100000
END:DAYLIGHT
BEGIN:STANDARD
TZOFFSETFROM:-0700
TZOFFSETTO:-0800
TZNAME:PST
DTSTART:20171105T090000
END:STANDARD
END:VTIMEZONE
BEGIN:VEVENT
DTSTART;VALUE=DATE:20170415
DTEND;VALUE=DATE:20170416
DTSTAMP:20260424T090250
CREATED:20170405T074253Z
LAST-MODIFIED:20170405T074253Z
UID:8165-1492214400-1492300799@maintaptavern.com
SUMMARY:Dirty Decibels
DESCRIPTION:Dirty Decibels Cover Band 7pm. No Cover!! \nThe Dirty Decibels are an East County based band hell bent on entertaining with everything from loud\, rowdy rock tunes to sexy throwback grooves. Made up of accomplished musicians of various backgrounds\, The Dirty Decibels love providing the bar scene with polished sets and impeccable musicianship with just the right amount of rock n roll grit and attitude.
URL:http://maintaptavern.com/event/dirty-decibels-5/
LOCATION:Main Tap Tavern\, 518 E Main St\, El Cajon\, CA 92020\, El Cajon\, CA\, 92020\, United States
CATEGORIES:Events
ATTACH;FMTTYPE=image/jpeg:http://maintaptavern.com/wp-content/uploads/2014/04/dirty_decibels.jpg
END:VEVENT
END:VCALENDAR